BEGIN:VCALENDAR
VERSION:2.0
PRODID:-//Heathen Hill Yoga - ECPv6.15.17.1//NONSGML v1.0//EN
CALSCALE:GREGORIAN
METHOD:PUBLISH
X-ORIGINAL-URL:https://heathenhillyoga.net
X-WR-CALDESC:Events for Heathen Hill Yoga
REFRESH-INTERVAL;VALUE=DURATION:PT1H
X-Robots-Tag:noindex
X-PUBLISHED-TTL:PT1H
BEGIN:VTIMEZONE
TZID:America/New_York
BEGIN:DAYLIGHT
TZOFFSETFROM:-0500
TZOFFSETTO:-0400
TZNAME:EDT
DTSTART:20250309T070000
END:DAYLIGHT
BEGIN:STANDARD
TZOFFSETFROM:-0400
TZOFFSETTO:-0500
TZNAME:EST
DTSTART:20251102T060000
END:STANDARD
BEGIN:DAYLIGHT
TZOFFSETFROM:-0500
TZOFFSETTO:-0400
TZNAME:EDT
DTSTART:20260308T070000
END:DAYLIGHT
BEGIN:STANDARD
TZOFFSETFROM:-0400
TZOFFSETTO:-0500
TZNAME:EST
DTSTART:20261101T060000
END:STANDARD
BEGIN:DAYLIGHT
TZOFFSETFROM:-0500
TZOFFSETTO:-0400
TZNAME:EDT
DTSTART:20270314T070000
END:DAYLIGHT
BEGIN:STANDARD
TZOFFSETFROM:-0400
TZOFFSETTO:-0500
TZNAME:EST
DTSTART:20271107T060000
END:STANDARD
END:VTIMEZONE
BEGIN:VEVENT
DTSTART;TZID=America/New_York:20260710T000000
DTEND;TZID=America/New_York:20260712T235959
DTSTAMP:20260421T003723
CREATED:20260312T193140Z
LAST-MODIFIED:20260314T195854Z
UID:6174-1783641600-1783900799@heathenhillyoga.net
SUMMARY:TOBIE & MARGOT July 10 - 12
DESCRIPTION:A Summer Retreat\n\n\n\nThis weekend retreat that will have multiple classes taught by Margot and Tobie for students to choose from. Classes will range form vinyasa flow\, gentle flow\, restorative yoga and talks on yoga philosophy and the subtle body. \n\n\n\nPlease reach out to Tobie via email tob345@gmail.com for pricing and other information.   \n\n\n\n\n\n\n\nBeing introduced to yoga at 13\, Margot found herself incorporating the teachings and practices into multiple areas of her life from an early age. The intrigue of yoga led Margot to find ways of learning more\, helping build yoga programs at her high school and even teaching peers asana in college\, this formed Margot’s budding leadership skills\, leading her to take her first teacher training at 22. \n\n\n\nMargot’s style of teaching comes from over 1000 hours of training in Asana\, philosophy\, Ayurveda\, Reiki & Energy work\, Vinyasa\, and Iyengar\, among other styles and disciplines. She has taught internationally and studied under teachers such as Ali Cramer\, Ruth Robbins\, Nikki Costello\, Judith Lasater\, Rodney Yee\, Brian Kest\, Ellena Brower\, Dana Flynn\, and others. \n\n\n\nMargot attributes her teachings to years of learning from life’s experiences of loss\, love\, challenge\, and joy. She believes that the practices are an extension of your life and we need to meet them with dedication\, grace\, and humility knowing that each challenge is an opportunity to learn\, grow\, and expand. \n\n\n\nIn class with Margot\, you will find philosophy\, deeply contemplating dharma\, and widely fun sequencing. Margot is the queen of “the full experience” so expect to learn\, laugh\, let go\, listen to some good tunes and be pushed to be nothing but yourself exactly as you are. \n\n\n\n\n\n\n\nTobie was introduced to yoga in her early twenties but didn’t start a dedicated practice until her 29th birthday when her mother brought her to Kripalu Center in the Berkshires. Since then she has completed her 200hr certification in an Iyengar influenced style of yoga. She has learned from teachers such as Rodney Yee\, Seane Corn\, Rolf Gates\, Baron Baptiste and Stephen Cope. Tobie teaches a vinyasa style of yoga with an attention to form and alignment. She believes that form and alignment are the keys to freedom in the body and freedom in the breath. Being a massage therapist for the last 22 years and receiving her masters in clinical nutrition 15 years ago\, Tobie has a well rounded understanding of the body. Her classes are challenging and fun while giving the students an awareness that they are ultimately their own teacher and can guide their practice to fit their needs.
URL:https://heathenhillyoga.net/retreat/tobie-margot-july-10-12/
LOCATION:Heathen Hill Guest House and Retreat Center\, 810 Heathen Hill Road\, Franklin\, NY\, 13775
CATEGORIES:Retreats
ATTACH;FMTTYPE=image/jpeg:https://heathenhillyoga.net/wp-content/uploads/2025/01/hhy-tobie-margot.jpg
END:VEVENT
BEGIN:VEVENT
DTSTART;TZID=America/New_York:20260717T000000
DTEND;TZID=America/New_York:20260719T235959
DTSTAMP:20260421T003723
CREATED:20260312T212222Z
LAST-MODIFIED:20260314T195942Z
UID:6182-1784246400-1784505599@heathenhillyoga.net
SUMMARY:CHRISSY CARTER July 17 - 19
DESCRIPTION:$300 non-refundable deposit required to reserve your spot! Email me to register. \n\n\n\nJoin me for my annual summer retreat to Heathen Hill in the Catskills! This weekend getaway is the perfect opportunity to kick back and relax\, devote time to yourself and your yoga practice\, and enjoy the amazing food and magic that is Heathen Hill. \n\n\n\nYoga\n\n\n\nThe yoga practices are open level. All are welcome! The retreat includes four practices\, each two hours long with time for restorative\, pranayama\, and meditation. Expect personalized attention and instruction\, intelligent and insightful sequences\, and interesting prop work and movement exploration. \n\n\n\nFree Time\n\n\n\nAfternoons are for you to spend as you wish. Nap in a hammock\, wander through the labyrinth\, swim in the swimming hole\, play badminton or horseshoes on the lawn\, dive into a puzzle\, or walk the gorgeous property. \n\n\n\nMeals\n\n\n\nHomemade breads\, yogurt\, and fruit are provided in each house for self-serve breakfast. Lunch and dinner are shared meals lovingly prepared by Susan and Lisa. The food is OUTSTANDING. The garden at Heathen Hill in the summer is slammin’ (as Susan says!) and inspires the vegetarian garden-to-table menu. Please email with any dietary restrictions or food allergies so that Susan and Lisa can accommodate your needs. Heathen Hill is BYOB no-judgement zone. \n\n\n\nAccommodations\n\n\n\nThere are two options for accommodations at Heathen Hill. The Yoga House is the original house on the property. There are four rooms in the Yoga House\, all with two single beds and shared bath. Big Heathen sits up on the hill and is the newest addition to Heathen Hill. There are six rooms in Big Heathen\, some with two single beds and others with queen beds. There are both private and shared bath options. Sheets and towels are provided. \n\n\n\nYou can check out the rooms here. \n\n\n\nCheck Chrissy Carter’s website for pricing and room availability. \n\n\n\nTransportation\n\n\n\nDriving is the preferred mode of transportation. You can find directions to Heathen Hill here. There is also a bus to Oneonta via Trailways. From Oneonta\, you can take a car service to Heathen Hill. Click here for more information. \n\n\n\n\n\n\n\n\nRetreat Agenda\n\n\n\nFriday\, July 17th Arrival: Anytime after 3PM Yoga Practice: 5PM-7PM Welcome Dinner: 7PM \n\n\n\nSaturday\, July 18th Yoga Practice: 9AM-11AM Lunch: 11:15AM Yoga Practice: 5PM-7PM Dinner: 7PM \n\n\n\nSunday\, July 19th Yoga Practice: 9AM-11AM Brunch: 11AM Departure: After brunch\, by 1PM
URL:https://heathenhillyoga.net/retreat/chrissy-carter-july-17-19/
LOCATION:Heathen Hill Guest House and Retreat Center\, 810 Heathen Hill Road\, Franklin\, NY\, 13775
CATEGORIES:Retreats
ATTACH;FMTTYPE=image/jpeg:https://heathenhillyoga.net/wp-content/uploads/2025/01/HHY-placeholder-rectangle.jpg
END:VEVENT
BEGIN:VEVENT
DTSTART;TZID=America/New_York:20260723T000000
DTEND;TZID=America/New_York:20260726T235959
DTSTAMP:20260421T003723
CREATED:20260312T212743Z
LAST-MODIFIED:20260314T195959Z
UID:6190-1784764800-1785110399@heathenhillyoga.net
SUMMARY:NETA KATZ July 23 - 26
DESCRIPTION:Neta Katz\n\n\n\nI am so pleased to return to Heathen Hill this summer! Join me for a long weekend of Yoga\, the beauty of the Catskills\, wonderful meals\, and good friends. The weekend will include both active and restorative classes\, with time for questions and discussion. \n\n\n\nFor pricing\, contact neta@yogawithneta.com \n\n\n\nSchedule:\n\n\n\n\nThursday: arrival any time after 2pm before 5pm\, 6-7:30PM Yoga \, dinner.\n\n\n\nFriday: Light breakfast\, 8:30-11AM Yoga\, lunch and free time\, 5-6:30PM yoga\, dinner\, camp fire.\n\n\n\nSaturday: Light breakfast\, 8:30-11AM Yoga\, lunch and free time\, 5-6:30PM yoga\, dinner.\n\n\n\nSunday: Light breakfast\, 8:30-11AM Yoga\, Country Brunch\, departure before 2pm.\n\n\n\n\nNeta Katz has been teaching Iyengar Yoga since 1998 (certified Junior 1). Her style of teaching is deeply rooted in her architecture background\, and her love of anatomy. With thoughtful understanding of structure and space\, Neta guides students towards a profound understanding of the body and its potential. \n\n\n\nWith over 25 years of teaching experience\, Neta has worked with a wide range of students from beginners seeking an encouraging introduction\, to longtime practitioners looking to deepen their practice and understanding. \n\n\n\nAlways fascinated in how balance is experienced differently in each and every body\, Neta encourages students to go deep into their own particular set of body conditions\, and find a center that is unique and individual. A place of balance\, harmony\, and equilibrium. To learn more about Neta please visit yogawithneta.com
URL:https://heathenhillyoga.net/retreat/neta-katz-july-23-26/
LOCATION:Heathen Hill Guest House and Retreat Center\, 810 Heathen Hill Road\, Franklin\, NY\, 13775
CATEGORIES:Retreats
ATTACH;FMTTYPE=image/jpeg:https://heathenhillyoga.net/wp-content/uploads/2023/02/neta-katz.jpg
END:VEVENT
BEGIN:VEVENT
DTSTART;TZID=America/New_York:20260731T000000
DTEND;TZID=America/New_York:20260802T235959
DTSTAMP:20260421T003723
CREATED:20260312T214809Z
LAST-MODIFIED:20260314T200015Z
UID:6195-1785456000-1785715199@heathenhillyoga.net
SUMMARY:KELLY FRIEDBERG July 31 - August 2
DESCRIPTION:HEART OF THE WILD\n\n\n\nEmber & Earth: A Summer Yoga & Meditation Retreat\n\n\n\nAt the height of summer\, when the land is full and the days are long\, we gather to tend what glows and ground what grows. \n\n\n\n\n\n\n\nHeart of the Wild is designed for those craving both vitality and deep rest\, this retreat offers a spacious\, nourishing container to reconnect with your body\, your breath\, and your inner rhythm. Guided by the principle of Ember & Earth\, our practices move between heart- centered movement and grounding stillness—awakening energy without depletion\, expression without urgency. This is not a packed schedule or a performative wellness weekend. It is a true retreat: time to practice\, to pause\, to eat well\, to rest deeply\, and to listen. \n\n\n\nYoga offerings include hatha\, vinyasa\, yin\, and restorative\, supported by breathwork\, meditation\, and Yoga Nidra. Practices are accessible and thoughtfully layered\, honoring both strength and softness. Afternoons are intentionally open\, allowing space for walking\, journaling\, napping\, or simply being. \n\n\n\nThroughout the weekend\, we weave in yoga philosophy\, myth\, and goddess archetypes as living stories—offered not as belief systems\, but as mirrors for courage\, devotion\, nourishment\, and heart-led power. Set during Leo season\, the retreat gently explores themes of the heart\, embodied joy\, self-expression\, and presence—always grounded by nature and deep rest. \n\n\n\nHeart of the Wild offers an experience that is personal\, unhurried\, and deeply human. \n\n\n\nCome as you are. Leave more fully yourself. \n\n\n\nPrice range $685-$1170 – Click here to sign up.
URL:https://heathenhillyoga.net/retreat/kelly-friedberg-july-31-august-2/
LOCATION:Heathen Hill Guest House and Retreat Center\, 810 Heathen Hill Road\, Franklin\, NY\, 13775
CATEGORIES:Retreats
ATTACH;FMTTYPE=image/jpeg:https://heathenhillyoga.net/wp-content/uploads/2026/03/HHY-friedberg-featured.jpg
END:VEVENT
END:VCALENDAR