BEGIN:VCALENDAR
VERSION:2.0
PRODID:-//Heathen Hill Yoga - ECPv6.15.17.1//NONSGML v1.0//EN
CALSCALE:GREGORIAN
METHOD:PUBLISH
X-WR-CALNAME:Heathen Hill Yoga
X-ORIGINAL-URL:https://heathenhillyoga.net
X-WR-CALDESC:Events for Heathen Hill Yoga
REFRESH-INTERVAL;VALUE=DURATION:PT1H
X-Robots-Tag:noindex
X-PUBLISHED-TTL:PT1H
BEGIN:VTIMEZONE
TZID:America/New_York
BEGIN:DAYLIGHT
TZOFFSETFROM:-0500
TZOFFSETTO:-0400
TZNAME:EDT
DTSTART:20250309T070000
END:DAYLIGHT
BEGIN:STANDARD
TZOFFSETFROM:-0400
TZOFFSETTO:-0500
TZNAME:EST
DTSTART:20251102T060000
END:STANDARD
BEGIN:DAYLIGHT
TZOFFSETFROM:-0500
TZOFFSETTO:-0400
TZNAME:EDT
DTSTART:20260308T070000
END:DAYLIGHT
BEGIN:STANDARD
TZOFFSETFROM:-0400
TZOFFSETTO:-0500
TZNAME:EST
DTSTART:20261101T060000
END:STANDARD
BEGIN:DAYLIGHT
TZOFFSETFROM:-0500
TZOFFSETTO:-0400
TZNAME:EDT
DTSTART:20270314T070000
END:DAYLIGHT
BEGIN:STANDARD
TZOFFSETFROM:-0400
TZOFFSETTO:-0500
TZNAME:EST
DTSTART:20271107T060000
END:STANDARD
END:VTIMEZONE
BEGIN:VEVENT
DTSTART;TZID=America/New_York:20260626T000000
DTEND;TZID=America/New_York:20260628T235959
DTSTAMP:20260420T224411
CREATED:20260312T192501Z
LAST-MODIFIED:20260312T215724Z
UID:6168-1782432000-1782691199@heathenhillyoga.net
SUMMARY:DAN SHUMAN June 26 - 28
DESCRIPTION:Dan Shuman leads an annual yoga intensive at Heathen Hill for teachers and serious practitioners who want time\, quiet\, and sustained attention in their practice. The retreat offers an opportunity to work deeply over several days\, supported by the simplicity and rhythm of retreat life in a rural setting. \n\n\n\nThe teaching is grounded in the Iyengar Yoga tradition\, with an emphasis on clarity of action\, intelligent sequencing\, and careful observation. Classes are long-form and methodical\, allowing familiar postures to be explored with greater precision and understanding. Contemporary movement perspectives are incorporated where useful\, in service of joint health\, efficiency of effort\, and ease. \n\n\n\nDaily pranayama and extended asana sessions are balanced with generous breaks for rest\, walking\, and reflection. This retreat is best suited to experienced students who value depth\, seriousness\, and a thoughtful\, non-performative approach to practice.
URL:https://heathenhillyoga.net/retreat/dan-shuman-june-26-28/
LOCATION:Heathen Hill Guest House and Retreat Center\, 810 Heathen Hill Road\, Franklin\, NY\, 13775
CATEGORIES:Retreats
ATTACH;FMTTYPE=image/jpeg:https://heathenhillyoga.net/wp-content/uploads/2026/03/HHY-shuman-featured.jpg
END:VEVENT
END:VCALENDAR